BEGIN:VCALENDAR
VERSION:2.0
PRODID:http://www.egotec.com/
METHOD:PUBLISH
BEGIN:VTIMEZONE
X-LIC-LOCATION:Europe/Berlin
TZID:Europe/Berlin
END:VTIMEZONE
BEGIN:VEVENT
CREATED:20260416T111415Z
SUMMARY:Resilienz, Politisierung, Vertrauenskrise? Zur Rolle von Wissenschaft in gesellschaftlichen Krisen
DTSTART:20260422T160000Z
DTEND:20260422T180000Z
LOCATION:Universitätshauptgebäude Hörsaal 250, Fürstengraben 1, Jena
DESCRIPTION:Resilienz, Politisierung, Vertrauenskrise? Zur Rolle von Wissenschaft in gesellschaftlichen Krisen\n\nVortrag und Diskussion\n\nhttps://www.komrex.uni-jena.de/5852/resiliente-wissenschaft
END:VEVENT
END:VCALENDAR
